BEGIN:VCALENDAR
VERSION:2.0
PRODID:-//Tukios.com/
BEGIN:VEVENT
UID:3836a78f-3c83-45c4-9743-ace21b15036d@www.hathornfuneralhome.com
DTSTAMP:20260423T212045Z
DTSTART:20260425T173000Z
DTEND:20260425T183000Z
SUMMARY:Graveside Service
DESCRIPTION:
URL:https://www.hathornfuneralhome.com/obituaries/george-may
LOCATION:Cedar Grove Baptist Church Cemetery 54 Cedar Grove Road  
	Columbia MS 39429
GEO:31.308862;-89.8535729
END:VEVENT
END:VCALENDAR