BEGIN:VCALENDAR
VERSION:2.0
PRODID:-//Tukios.com/
BEGIN:VEVENT
UID:68cebe37-67d9-4639-9c2b-4530e2f7b926@www.hathornfuneralhome.com
DTSTAMP:20260423T211836Z
DTSTART:20260425T163000Z
DTEND:20260425T173000Z
SUMMARY:Funeral Service
DESCRIPTION:
URL:https://www.hathornfuneralhome.com/obituaries/george-may
LOCATION:Cedar Grove Baptist Church 54 Cedar Grove Road  Columbia MS 
	39429
GEO:31.308862;-89.8535729
END:VEVENT
END:VCALENDAR