BEGIN:VCALENDAR
VERSION:2.0
PRODID:-//Tukios.com/
BEGIN:VEVENT
UID:c3b7c2d4-eec5-430f-b26c-710d7e921eb8@www.hathornfuneralhome.com
DTSTAMP:20260423T211518Z
DTSTART:20260425T150000Z
DTEND:20260425T163000Z
SUMMARY:Visitation
DESCRIPTION:
URL:https://www.hathornfuneralhome.com/obituaries/george-may
LOCATION:Cedar Grove Baptist Church 54 Cedar Grove Road  Columbia MS 
	39429
GEO:31.308862;-89.8535729
END:VEVENT
END:VCALENDAR